BEGIN:VCALENDAR
VERSION:2.0
PRODID:-//ISCOPE//iscope.de//DE
CALSCALE:GREGORIAN
BEGIN:VEVENT
DTSTART:20260509T100000
DTEND:20260510T170000
LOCATION:EMSLANDHALLEN LINGEN
Lindenstraße 24a
49808 Lingen (Ems)
DTSTAMP:20260421T032210Z
SUMMARY:19. jobmesse emsland
DESCRIPTION:
Öffnungszeiten:

UID:d8c7fc1565e0115ebbd6c46be250fd508b798020
END:VEVENT
END:VCALENDAR