BEGIN:VCALENDAR
VERSION:2.0
PRODID:-//ISCOPE//iscope.de//DE
CALSCALE:GREGORIAN
BEGIN:VEVENT
DTSTART:20270313T100000
DTEND:20270314T170000
LOCATION:MOTORWORLD Köln | Rheinland ((Butzweilerhof | Ossendorf))
Butzweilerstraße 35-39
50829 Köln
DTSTAMP:20260421T031943Z
SUMMARY:13. jobmesse köln
DESCRIPTION:
Öffnungszeiten:

UID:8eae5a77724d98739dc4f75bf3558e17e1ad9544
END:VEVENT
END:VCALENDAR