BEGIN:VCALENDAR
VERSION:2.0
PRODID:-//ISCOPE//iscope.de//DE
CALSCALE:GREGORIAN
BEGIN:VEVENT
DTSTART:20260627T100000
DTEND:20260628T170000
LOCATION:FLUGHAFEN MÜNCHEN (TERMINAL 2 – Abflugebene)
Terminalstraße Mitte 
85356 Flughafen München
DTSTAMP:20260421T102303Z
SUMMARY:3. jobmesse munich airport
DESCRIPTION:
Öffnungszeiten:

UID:764d130d631fc9a8d9dba00025b9110fa8ee38fb
END:VEVENT
END:VCALENDAR