BEGIN:VCALENDAR
VERSION:2.0
PRODID:-//ISCOPE//iscope.de//DE
CALSCALE:GREGORIAN
BEGIN:VEVENT
DTSTART:20270410T100000
DTEND:20270411T170000
LOCATION:WESER-EMS-HALLEN OLDENBURG (HALLE 3)
Europaplatz 12
26123 Oldenburg
DTSTAMP:20260421T074743Z
SUMMARY:21. jobmesse oldenburg
DESCRIPTION:
Öffnungszeiten:

UID:72d292d60bd2fe7f72da9f47a3a3f1c2d981aaf4
END:VEVENT
END:VCALENDAR