BEGIN:VCALENDAR
VERSION:2.0
PRODID:-//ISCOPE//iscope.de//DE
CALSCALE:GREGORIAN
BEGIN:VEVENT
DTSTART:20261107T110000
DTEND:20261108T160000
LOCATION:SÜVERKRÜP AUTOMOBILE (MERCEDES-BENZ | WITTLAND)
Daimlerstraße 1
24109 Kiel
DTSTAMP:20260421T113124Z
SUMMARY:19. jobmesse kiel
DESCRIPTION:
Öffnungszeiten:

UID:5969b923bab67088d9c64219fc5f5a4d2caf77e6
END:VEVENT
END:VCALENDAR