BEGIN:VCALENDAR
VERSION:2.0
PRODID:-//ISCOPE//iscope.de//DE
CALSCALE:GREGORIAN
BEGIN:VEVENT
DTSTART:20260530T100000
DTEND:20260531T170000
LOCATION:ARENA BERLIN
Eichenstraße 4
D-12435 Berlin-Treptow
DTSTAMP:20260421T120622Z
SUMMARY:17. jobmesse berlin
DESCRIPTION:
Öffnungszeiten:

UID:57aa027278446118929d83c98880014483235b0d
END:VEVENT
END:VCALENDAR