BEGIN:VCALENDAR
VERSION:2.0
PRODID:-//ISCOPE//iscope.de//DE
CALSCALE:GREGORIAN
BEGIN:VEVENT
DTSTART:20260411T100000
DTEND:20260412T170000
LOCATION:WESER-EMS-HALLEN OLDENBURG (HALLE 3)
Europaplatz 12
26123 Oldenburg
DTSTAMP:20260413T093100Z
SUMMARY:20. jobmesse oldenburg
DESCRIPTION:
Öffnungszeiten:

UID:3c48ba62a8b81abfea3907862ea0f5900e548e40
END:VEVENT
END:VCALENDAR