BEGIN:VCALENDAR
VERSION:2.0
PRODID:-//ISCOPE//iscope.de//DE
CALSCALE:GREGORIAN
BEGIN:VEVENT
DTSTART:20270417T100000
DTEND:20270418T170000
LOCATION:Jürgens Automobile GmbH (ehem. Mercedes-Benz Niederlassung)
Wittekindstraße 99
44139 Dortmund
DTSTAMP:20260421T114554Z
SUMMARY:19. jobmesse dortmund
DESCRIPTION:
Öffnungszeiten:

UID:0dcbe4d3a7c3accd4d102b2dc481dd07756e159e
END:VEVENT
END:VCALENDAR