BEGIN:VCALENDAR
VERSION:2.0
PRODID:-//ISCOPE//iscope.de//DE
CALSCALE:GREGORIAN
BEGIN:VEVENT
DTSTART:20261121T100000
DTEND:20261122T170000
LOCATION:KONGRESSHALLE AM ZOO
Pfaffendorfer Straße 31
04105 Leipzig
DTSTAMP:20260421T102528Z
SUMMARY:8. jobmesse leipzig
DESCRIPTION:
Öffnungszeiten:

UID:037d88a2e686c7190844297cd57aa4bd80177637
END:VEVENT
END:VCALENDAR